BEGIN:VCALENDAR
PRODID:-//spiritec//spiritec media library//EN
VERSION:2.0
METHOD:PUBLISH
BEGIN:VEVENT
UID:ical-2026-06-11-4495
DTSTART:20260611T163000Z
DTSTAMP:20260423T183731Z
LOCATION:OPAL
SUMMARY:Einführungssoirée & Probenbesuch: Die Zauberflöte
DESCRIPTION:
CREATED:20260423T183731Z
DTEND:20260611T191500Z
END:VEVENT
END:VCALENDAR
