BEGIN:VCALENDAR
PRODID:-//spiritec//spiritec media library//EN
VERSION:2.0
METHOD:PUBLISH
BEGIN:VEVENT
UID:ical-2026-06-17-4494
DTSTART:20260617T170000Z
DTSTAMP:20260423T113934Z
LOCATION:OPAL Foyer
SUMMARY:Begegnung der Freunde und Förderer des NTM
DESCRIPTION:
CREATED:20260423T113934Z
DTEND:20260617T170000Z
END:VEVENT
END:VCALENDAR
