BEGIN:VCALENDAR
PRODID:-//spiritec//spiritec media library//EN
VERSION:2.0
METHOD:PUBLISH
BEGIN:VEVENT
UID:ical-2026-06-09-4493
DTSTART:20260609T180000Z
DTSTAMP:20260423T114005Z
LOCATION:Rostock
SUMMARY:Unsere Klasse
DESCRIPTION:
CREATED:20260423T114005Z
DTEND:20260609T180000Z
END:VEVENT
END:VCALENDAR
