BEGIN:VCALENDAR
PRODID:-//spiritec//spiritec media library//EN
VERSION:2.0
METHOD:PUBLISH
BEGIN:VEVENT
UID:ical-2026-06-04-4492
DTSTART:20260604T180000Z
DTSTAMP:20260423T113836Z
LOCATION:Studio Werkhaus
SUMMARY:Unsere Klasse
DESCRIPTION:
CREATED:20260423T113836Z
DTEND:20260604T180000Z
END:VEVENT
END:VCALENDAR
