BEGIN:VCALENDAR
PRODID:-//spiritec//spiritec media library//EN
VERSION:2.0
METHOD:PUBLISH
BEGIN:VEVENT
UID:ical-2026-06-16-4490
DTSTART:20260616T170000Z
DTSTAMP:20260423T113712Z
LOCATION:NTM Tanzhaus
SUMMARY:Talk zu »Shakespeare & Love«
DESCRIPTION:
CREATED:20260423T113712Z
DTEND:20260616T170000Z
END:VEVENT
END:VCALENDAR
