BEGIN:VCALENDAR
PRODID:-//spiritec//spiritec media library//EN
VERSION:2.0
METHOD:PUBLISH
BEGIN:VEVENT
UID:ical-2026-06-02-4489
DTSTART:20260602T173000Z
DTSTAMP:20260423T113549Z
LOCATION:Altes Kino Franklin
SUMMARY:Die Schattenpräsidentinnen
DESCRIPTION:
CREATED:20260423T113549Z
DTEND:20260602T173000Z
END:VEVENT
END:VCALENDAR
