BEGIN:VCALENDAR
PRODID:-//spiritec//spiritec media library//EN
VERSION:2.0
METHOD:PUBLISH
BEGIN:VEVENT
UID:ical-2026-06-26-4488
DTSTART:20260626T173000Z
DTSTAMP:20260423T114042Z
LOCATION:Altes Kino Franklin
SUMMARY:Wer darf hier Mann sein?
DESCRIPTION:
CREATED:20260423T114042Z
DTEND:20260626T173000Z
END:VEVENT
END:VCALENDAR
