BEGIN:VCALENDAR
PRODID:-//spiritec//spiritec media library//EN
VERSION:2.0
METHOD:PUBLISH
BEGIN:VEVENT
UID:ical-2026-06-14-4487
DTSTART:20260614T170000Z
DTSTAMP:20260423T113549Z
LOCATION:Altes Kino Franklin
SUMMARY:Wer darf hier Mann sein?
DESCRIPTION:
CREATED:20260423T113549Z
DTEND:20260614T170000Z
END:VEVENT
END:VCALENDAR
