BEGIN:VCALENDAR
PRODID:-//spiritec//spiritec media library//EN
VERSION:2.0
METHOD:PUBLISH
BEGIN:VEVENT
UID:ical-2026-06-04-4486
DTSTART:20260604T170000Z
DTSTAMP:20260423T113756Z
LOCATION:Altes Kino Franklin
SUMMARY:Wer darf hier Mann sein?
DESCRIPTION:
CREATED:20260423T113756Z
DTEND:20260604T170000Z
END:VEVENT
END:VCALENDAR
