BEGIN:VCALENDAR
PRODID:-//spiritec//spiritec media library//EN
VERSION:2.0
METHOD:PUBLISH
BEGIN:VEVENT
UID:ical-2026-06-27-4485
DTSTART:20260627T170000Z
DTSTAMP:20260423T113518Z
LOCATION:NTM Tanzhaus
SUMMARY:Lostanzen! auf der Bühne
DESCRIPTION:
CREATED:20260423T113518Z
DTEND:20260627T170000Z
END:VEVENT
END:VCALENDAR
