BEGIN:VCALENDAR
PRODID:-//spiritec//spiritec media library//EN
VERSION:2.0
METHOD:PUBLISH
BEGIN:VEVENT
UID:ical-2026-06-05-4484
DTSTART:20260605T163000Z
DTSTAMP:20260423T113718Z
LOCATION:Altes Kino Franklin
SUMMARY:Die Nacht von Lissabon
DESCRIPTION:
CREATED:20260423T113718Z
DTEND:20260605T163000Z
END:VEVENT
END:VCALENDAR
