BEGIN:VCALENDAR
PRODID:-//spiritec//spiritec media library//EN
VERSION:2.0
METHOD:PUBLISH
BEGIN:VEVENT
UID:ical-2026-06-28-4483
DTSTART:20260628T130000Z
DTSTAMP:20260423T113713Z
LOCATION:Altes Kino Franklin
SUMMARY:Das Lehrerzimmer
DESCRIPTION:
CREATED:20260423T113713Z
DTEND:20260628T130000Z
END:VEVENT
END:VCALENDAR
