BEGIN:VCALENDAR
PRODID:-//spiritec//spiritec media library//EN
VERSION:2.0
METHOD:PUBLISH
BEGIN:VEVENT
UID:ical-2026-06-12-4482
DTSTART:20260612T170000Z
DTSTAMP:20260423T113756Z
LOCATION:Altes Kino Franklin
SUMMARY:Das Lehrerzimmer
DESCRIPTION:
CREATED:20260423T113756Z
DTEND:20260612T170000Z
END:VEVENT
END:VCALENDAR
