BEGIN:VCALENDAR
PRODID:-//spiritec//spiritec media library//EN
VERSION:2.0
METHOD:PUBLISH
BEGIN:VEVENT
UID:ical-2026-06-13-4481
DTSTART:20260613T173000Z
DTSTAMP:20260423T113934Z
LOCATION:Altes Kino Franklin
SUMMARY:Der seltsame Fall von Dr. Jekyll und Mr. Hyde
DESCRIPTION:
CREATED:20260423T113934Z
DTEND:20260613T173000Z
END:VEVENT
END:VCALENDAR
