BEGIN:VCALENDAR
PRODID:-//spiritec//spiritec media library//EN
VERSION:2.0
METHOD:PUBLISH
BEGIN:VEVENT
UID:ical-2026-06-06-4480
DTSTART:20260606T130000Z
DTSTAMP:20260423T113441Z
LOCATION:Werkhaus
SUMMARY:Führung durch die Werkstätten des NTM
DESCRIPTION:
CREATED:20260423T113441Z
DTEND:20260606T143000Z
END:VEVENT
END:VCALENDAR
