BEGIN:VCALENDAR
PRODID:-//spiritec//spiritec media library//EN
VERSION:2.0
METHOD:PUBLISH
BEGIN:VEVENT
UID:ical-2026-06-13-4479
DTSTART:20260613T120000Z
DTSTAMP:20260423T113518Z
LOCATION:Altes Kino Franklin
SUMMARY:Franklin-Führung
DESCRIPTION:
CREATED:20260423T113518Z
DTEND:20260613T120000Z
END:VEVENT
END:VCALENDAR
