BEGIN:VCALENDAR
PRODID:-//spiritec//spiritec media library//EN
VERSION:2.0
METHOD:PUBLISH
BEGIN:VEVENT
UID:ical-2026-06-19-4478
DTSTART:20260619T173000Z
DTSTAMP:20260423T114005Z
LOCATION:NTM Tanzhaus
SUMMARY:Choreografische Werkstatt
DESCRIPTION:
CREATED:20260423T114005Z
DTEND:20260619T173000Z
END:VEVENT
END:VCALENDAR
