BEGIN:VCALENDAR
PRODID:-//spiritec//spiritec media library//EN
VERSION:2.0
METHOD:PUBLISH
BEGIN:VEVENT
UID:ical-2026-06-12-4477
DTSTART:20260612T173000Z
DTSTAMP:20260423T113633Z
LOCATION:NTM Tanzhaus
SUMMARY:Choreografische Werkstatt
DESCRIPTION:
CREATED:20260423T113633Z
DTEND:20260612T173000Z
END:VEVENT
END:VCALENDAR
