BEGIN:VCALENDAR
PRODID:-//spiritec//spiritec media library//EN
VERSION:2.0
METHOD:PUBLISH
BEGIN:VEVENT
UID:ical-2026-06-18-4476
DTSTART:20260618T173000Z
DTSTAMP:20260423T113441Z
LOCATION:Altes Kino Franklin
SUMMARY:Ballett-Soirée der Akademie des Tanzes Mannheim
DESCRIPTION:
CREATED:20260423T113441Z
DTEND:20260618T173000Z
END:VEVENT
END:VCALENDAR
