BEGIN:VCALENDAR
PRODID:-//spiritec//spiritec media library//EN
VERSION:2.0
METHOD:PUBLISH
BEGIN:VEVENT
UID:ical-2026-06-11-4475
DTSTART:20260611T180000Z
DTSTAMP:20260423T113805Z
LOCATION:Studio Werkhaus
SUMMARY:Veritas: Eine Hexenjagd
DESCRIPTION:
CREATED:20260423T113805Z
DTEND:20260611T194500Z
END:VEVENT
END:VCALENDAR
