BEGIN:VCALENDAR
PRODID:-//spiritec//spiritec media library//EN
VERSION:2.0
METHOD:PUBLISH
BEGIN:VEVENT
UID:ical-2026-06-25-4472
DTSTART:20260625T173000Z
DTSTAMP:20260423T113518Z
LOCATION:Altes Kino Franklin
SUMMARY:Slippery Slope
DESCRIPTION:
CREATED:20260423T113518Z
DTEND:20260625T173000Z
END:VEVENT
END:VCALENDAR
