BEGIN:VCALENDAR
PRODID:-//spiritec//spiritec media library//EN
VERSION:2.0
METHOD:PUBLISH
BEGIN:VEVENT
UID:ical-2026-06-12-4471
DTSTART:20260612T180000Z
DTSTAMP:20260423T113441Z
LOCATION:Studio Werkhaus
SUMMARY:Miss Sara Jevo
DESCRIPTION:
CREATED:20260423T113441Z
DTEND:20260612T180000Z
END:VEVENT
END:VCALENDAR
