BEGIN:VCALENDAR
PRODID:-//spiritec//spiritec media library//EN
VERSION:2.0
METHOD:PUBLISH
BEGIN:VEVENT
UID:ical-2026-06-27-4469
DTSTART:20260627T170000Z
DTSTAMP:20260423T113633Z
LOCATION:Altes Kino Franklin
SUMMARY:Die Freiheit einer Frau: Monique bricht aus
DESCRIPTION:
CREATED:20260423T113633Z
DTEND:20260627T182500Z
END:VEVENT
END:VCALENDAR
