BEGIN:VCALENDAR
PRODID:-//spiritec//spiritec media library//EN
VERSION:2.0
METHOD:PUBLISH
BEGIN:VEVENT
UID:ical-2026-06-03-4468
DTSTART:20260603T173000Z
DTSTAMP:20260423T113836Z
LOCATION:Altes Kino Franklin
SUMMARY:Faust
DESCRIPTION:
CREATED:20260423T113836Z
DTEND:20260603T173000Z
END:VEVENT
END:VCALENDAR
