BEGIN:VCALENDAR
PRODID:-//spiritec//spiritec media library//EN
VERSION:2.0
METHOD:PUBLISH
BEGIN:VEVENT
UID:ical-2026-06-05-4467
DTSTART:20260605T180000Z
DTSTAMP:20260423T113805Z
LOCATION:Studio Werkhaus
SUMMARY:Dinge | über | Leben
DESCRIPTION:
CREATED:20260423T113805Z
DTEND:20260605T180000Z
END:VEVENT
END:VCALENDAR
