BEGIN:VCALENDAR
PRODID:-//spiritec//spiritec media library//EN
VERSION:2.0
METHOD:PUBLISH
BEGIN:VEVENT
UID:ical-2026-06-25-4466
DTSTART:20260625T073000Z
DTSTAMP:20260420T123747Z
LOCATION:Studio Feuerwache
SUMMARY:Die Welt ist rund (2+)
DESCRIPTION:
CREATED:20260420T123747Z
DTEND:20260625T080000Z
END:VEVENT
END:VCALENDAR
