BEGIN:VCALENDAR
PRODID:-//spiritec//spiritec media library//EN
VERSION:2.0
METHOD:PUBLISH
BEGIN:VEVENT
UID:ical-2026-06-24-4465
DTSTART:20260624T073000Z
DTSTAMP:20260420T123442Z
LOCATION:Studio Feuerwache
SUMMARY:Die Welt ist rund (2+)
DESCRIPTION:
CREATED:20260420T123442Z
DTEND:20260624T080000Z
END:VEVENT
END:VCALENDAR
