BEGIN:VCALENDAR
PRODID:-//spiritec//spiritec media library//EN
VERSION:2.0
METHOD:PUBLISH
BEGIN:VEVENT
UID:ical-2026-06-23-4464
DTSTART:20260623T080000Z
DTSTAMP:20260420T123542Z
LOCATION:Studio Feuerwache
SUMMARY:Die Welt ist rund (2+)
DESCRIPTION:
CREATED:20260420T123542Z
DTEND:20260623T083000Z
END:VEVENT
END:VCALENDAR
