BEGIN:VCALENDAR
PRODID:-//spiritec//spiritec media library//EN
VERSION:2.0
METHOD:PUBLISH
BEGIN:VEVENT
UID:ical-2026-06-01-4463
DTSTART:20260601T080000Z
DTSTAMP:20260420T123553Z
LOCATION:Saal Junges NTM
SUMMARY:Die Welt ist rund (2+)
DESCRIPTION:
CREATED:20260420T123553Z
DTEND:20260601T083000Z
END:VEVENT
END:VCALENDAR
