BEGIN:VCALENDAR
PRODID:-//spiritec//spiritec media library//EN
VERSION:2.0
METHOD:PUBLISH
BEGIN:VEVENT
UID:ical-2026-06-10-4462
DTSTART:20260610T090000Z
DTSTAMP:20260420T123747Z
LOCATION:Saal Junges NTM
SUMMARY:Mutter dili – alle Farben meiner Sprachen (14+)
DESCRIPTION:
CREATED:20260420T123747Z
DTEND:20260610T090000Z
END:VEVENT
END:VCALENDAR
