BEGIN:VCALENDAR
PRODID:-//spiritec//spiritec media library//EN
VERSION:2.0
METHOD:PUBLISH
BEGIN:VEVENT
UID:ical-2026-06-09-4461
DTSTART:20260609T090000Z
DTSTAMP:20260420T123900Z
LOCATION:Saal Junges NTM
SUMMARY:Mutter dili – alle Farben meiner Sprachen (14+)
DESCRIPTION:
CREATED:20260420T123900Z
DTEND:20260609T090000Z
END:VEVENT
END:VCALENDAR
