BEGIN:VCALENDAR
PRODID:-//spiritec//spiritec media library//EN
VERSION:2.0
METHOD:PUBLISH
BEGIN:VEVENT
UID:ical-2026-06-29-4460
DTSTART:20260629T090000Z
DTSTAMP:20260420T105301Z
LOCATION:Saal Junges NTM
SUMMARY:Bei der Feuerwehr wird der Kaffee kalt (5+)
DESCRIPTION:
CREATED:20260420T105301Z
DTEND:20260629T090000Z
END:VEVENT
END:VCALENDAR
