BEGIN:VCALENDAR
PRODID:-//spiritec//spiritec media library//EN
VERSION:2.0
METHOD:PUBLISH
BEGIN:VEVENT
UID:ical-2026-06-27-4459
DTSTART:20260627T090000Z
DTSTAMP:20260420T105235Z
LOCATION:Saal Junges NTM
SUMMARY:Bei der Feuerwehr wird der Kaffee kalt (5+)
DESCRIPTION:
CREATED:20260420T105235Z
DTEND:20260627T090000Z
END:VEVENT
END:VCALENDAR
