BEGIN:VCALENDAR
PRODID:-//spiritec//spiritec media library//EN
VERSION:2.0
METHOD:PUBLISH
BEGIN:VEVENT
UID:ical-2026-06-19-4457
DTSTART:20260619T080000Z
DTSTAMP:20260420T123611Z
LOCATION:Köln
SUMMARY:Federn federn (2+)
DESCRIPTION:
CREATED:20260420T123611Z
DTEND:20260619T080000Z
END:VEVENT
END:VCALENDAR
