BEGIN:VCALENDAR
PRODID:-//spiritec//spiritec media library//EN
VERSION:2.0
METHOD:PUBLISH
BEGIN:VEVENT
UID:ical-2026-06-17-4456
DTSTART:20260617T153000Z
DTSTAMP:20260420T123715Z
LOCATION:Treffpunkt: Foyer Junges NTM
SUMMARY:Offener Theatertreff (8 bis 21 Jahre)
DESCRIPTION:
CREATED:20260420T123715Z
DTEND:20260617T153000Z
END:VEVENT
END:VCALENDAR
