BEGIN:VCALENDAR
PRODID:-//spiritec//spiritec media library//EN
VERSION:2.0
METHOD:PUBLISH
BEGIN:VEVENT
UID:ical-2026-06-09-4455
DTSTART:20260609T073000Z
DTSTAMP:20260420T123431Z
LOCATION:Studio Feuerwache
SUMMARY:Terz & Tönchen (6+ Monate)
DESCRIPTION:
CREATED:20260420T123431Z
DTEND:20260609T080000Z
END:VEVENT
END:VCALENDAR
