BEGIN:VCALENDAR
PRODID:-//spiritec//spiritec media library//EN
VERSION:2.0
METHOD:PUBLISH
BEGIN:VEVENT
UID:ical-2026-06-08-4454
DTSTART:20260608T080000Z
DTSTAMP:20260420T123409Z
LOCATION:Studio Feuerwache
SUMMARY:Terz & Tönchen (6+ Monate)
DESCRIPTION:
CREATED:20260420T123409Z
DTEND:20260608T083000Z
END:VEVENT
END:VCALENDAR
