BEGIN:VCALENDAR
PRODID:-//spiritec//spiritec media library//EN
VERSION:2.0
METHOD:PUBLISH
BEGIN:VEVENT
UID:ical-2026-06-07-4452
DTSTART:20260607T090000Z
DTSTAMP:20260420T123442Z
LOCATION:Studio Feuerwache
SUMMARY:Terz & Tönchen (6+ Monate)
DESCRIPTION:
CREATED:20260420T123442Z
DTEND:20260607T093000Z
END:VEVENT
END:VCALENDAR
