BEGIN:VCALENDAR
PRODID:-//spiritec//spiritec media library//EN
VERSION:2.0
METHOD:PUBLISH
BEGIN:VEVENT
UID:ical-2026-06-04-4451
DTSTART:20260604T090000Z
DTSTAMP:20260420T123409Z
LOCATION:Studio Feuerwache
SUMMARY:Terz & Tönchen (6+ Monate)
DESCRIPTION:
CREATED:20260420T123409Z
DTEND:20260604T093000Z
END:VEVENT
END:VCALENDAR
