BEGIN:VCALENDAR
PRODID:-//spiritec//spiritec media library//EN
VERSION:2.0
METHOD:PUBLISH
BEGIN:VEVENT
UID:ical-2026-06-14-4449
DTSTART:20260614T090000Z
DTSTAMP:20260420T123332Z
LOCATION:Saal Junges NTM
SUMMARY:Vom kleinen Maulwurf, der wissen wollte, wer ihm auf den Kopf gemacht hat. (4+)
DESCRIPTION:
CREATED:20260420T123332Z
DTEND:20260614T100000Z
END:VEVENT
END:VCALENDAR
