BEGIN:VCALENDAR
PRODID:-//spiritec//spiritec media library//EN
VERSION:2.0
METHOD:PUBLISH
BEGIN:VEVENT
UID:ical-2026-06-12-4448
DTSTART:20260612T080000Z
DTSTAMP:20260420T123625Z
LOCATION:Saal Junges NTM
SUMMARY:Vom kleinen Maulwurf, der wissen wollte, wer ihm auf den Kopf gemacht hat. (4+)
DESCRIPTION:
CREATED:20260420T123625Z
DTEND:20260612T090000Z
END:VEVENT
END:VCALENDAR
