BEGIN:VCALENDAR
PRODID:-//spiritec//spiritec media library//EN
VERSION:2.0
METHOD:PUBLISH
BEGIN:VEVENT
UID:ical-2026-06-25-4447
DTSTART:20260625T090000Z
DTSTAMP:20260420T123611Z
LOCATION:Saal Junges NTM
SUMMARY:Klassiker! – Ein Remix (15+)
DESCRIPTION:
CREATED:20260420T123611Z
DTEND:20260625T090000Z
END:VEVENT
END:VCALENDAR
