BEGIN:VCALENDAR
PRODID:-//spiritec//spiritec media library//EN
VERSION:2.0
METHOD:PUBLISH
BEGIN:VEVENT
UID:ical-2026-06-22-4445
DTSTART:20260622T080000Z
DTSTAMP:20260420T123332Z
LOCATION:Saal Junges NTM
SUMMARY:Emil und die Detektive (7+)
DESCRIPTION:
CREATED:20260420T123332Z
DTEND:20260622T091000Z
END:VEVENT
END:VCALENDAR
