BEGIN:VCALENDAR
PRODID:-//spiritec//spiritec media library//EN
VERSION:2.0
METHOD:PUBLISH
BEGIN:VEVENT
UID:ical-2026-06-21-4444
DTSTART:20260621T140000Z
DTSTAMP:20260420T123625Z
LOCATION:Saal Junges NTM
SUMMARY:Emil und die Detektive (7+)
DESCRIPTION:
CREATED:20260420T123625Z
DTEND:20260621T151000Z
END:VEVENT
END:VCALENDAR
