BEGIN:VCALENDAR
PRODID:-//spiritec//spiritec media library//EN
VERSION:2.0
METHOD:PUBLISH
BEGIN:VEVENT
UID:ical-2026-06-17-4441
DTSTART:20260617T080000Z
DTSTAMP:20260420T123542Z
LOCATION:Saal Junges NTM
SUMMARY:Emil und die Detektive (7+)
DESCRIPTION:
CREATED:20260420T123542Z
DTEND:20260617T091000Z
END:VEVENT
END:VCALENDAR
