BEGIN:VCALENDAR
PRODID:-//spiritec//spiritec media library//EN
VERSION:2.0
METHOD:PUBLISH
BEGIN:VEVENT
UID:ical-2026-06-21-4440
DTSTART:20260621T090000Z
DTSTAMP:20260420T123715Z
LOCATION:Studio Feuerwache
SUMMARY:Baby Rave (für Babys und Krabbelkinder)
DESCRIPTION:
CREATED:20260420T123715Z
DTEND:20260621T100000Z
END:VEVENT
END:VCALENDAR
