BEGIN:VCALENDAR
PRODID:-//spiritec//spiritec media library//EN
VERSION:2.0
METHOD:PUBLISH
BEGIN:VEVENT
UID:ical-2026-05-07-4437
DTSTART:20260507T090000Z
DTSTAMP:20260419T130155Z
LOCATION:Saal Junges NTM
SUMMARY:Emil und die Detektive (7+)
DESCRIPTION:
CREATED:20260419T130155Z
DTEND:20260507T101000Z
END:VEVENT
END:VCALENDAR
