BEGIN:VCALENDAR
PRODID:-//spiritec//spiritec media library//EN
VERSION:2.0
METHOD:PUBLISH
BEGIN:VEVENT
UID:ical-2026-04-15-4411
DTSTART:20260415T163000Z
DTSTAMP:20260419T213827Z
LOCATION:
SUMMARY:The Art of Protest
DESCRIPTION:
CREATED:20260419T213827Z
DTEND:20260415T215900Z
END:VEVENT
END:VCALENDAR
